BEGIN:VCALENDAR
VERSION:2.0
PRODID:-//Barca24//NONSGML Events V1.0
METHOD:PUBLISH
BEGIN:VEVENT
SUMMARY:Navalia
DTSTART;VALUE=DATE:20250519
DTEND;VALUE=DATE:20250522
LOCATION:IFEVI Recinto Ferial, Avenida Aeropuerto 722, Cotogrande, Vigo
URL;VALUE=URI:https://www.navalia.es
UID:Barca24-4079016d940210b4ae9ae7d41c4a2065
SEQUENCE:0
DTSTAMP:20260423T172144
END:VEVENT
END:VCALENDAR
